BEGIN:VCALENDAR
VERSION:2.0
PRODID:-//zarabianieprostasprawa - ECPv6.14.0//NONSGML v1.0//EN
CALSCALE:GREGORIAN
METHOD:PUBLISH
X-WR-CALNAME:zarabianieprostasprawa
X-ORIGINAL-URL:https://zarabianieprostasprawa.pl
X-WR-CALDESC:Wydarzenia dla zarabianieprostasprawa
REFRESH-INTERVAL;VALUE=DURATION:PT1H
X-Robots-Tag:noindex
X-PUBLISHED-TTL:PT1H
BEGIN:VTIMEZONE
TZID:Europe/Warsaw
BEGIN:DAYLIGHT
TZOFFSETFROM:+0100
TZOFFSETTO:+0200
TZNAME:CEST
DTSTART:20240331T010000
END:DAYLIGHT
BEGIN:STANDARD
TZOFFSETFROM:+0200
TZOFFSETTO:+0100
TZNAME:CET
DTSTART:20241027T010000
END:STANDARD
END:VTIMEZONE
BEGIN:VEVENT
DTSTART;TZID=Europe/Warsaw:20241116T093000
DTEND;TZID=Europe/Warsaw:20241116T173000
DTSTAMP:20260420T151406
CREATED:20240920T192117Z
LAST-MODIFIED:20241104T140514Z
UID:2239-1731749400-1731778200@zarabianieprostasprawa.pl
SUMMARY:Konferencja 16.11.2024
DESCRIPTION:Agenda:\n9:30 – 10:00 – Otwarcie sali\, networking\n10:00 – 10:30 – Start spotkania\n10:30 – 11:30 – Psychologiczne aspekty sprzedaży Daria Dudzik\n11:30 – 12:30 – Bądź specjalistą w Social Media Magda Dębska\n12:30 – 13:30 – Warsztat z obsługi aplikacji Canva\, CupCut Anna Brewińska\n13:30 – 14:30 – Przerwa\, networking\n14:30 – 15:30 – Twój mindset Edyta Woronowicz prosto z Teneryfy\n15:30 – 16:30 – Warsztat jak zrobić dobre zdjęcia na Iphone i Android Adam Rebandel\n16:30 -17:30  – Poznaj nowy biznes i zostań ambasadorem swoich Social mediów\n17:30 – Zakończenie\, wspólne zdjęcie
URL:https://zarabianieprostasprawa.pl/event/konferencja-16-11-2024/
LOCATION:Biuro Warsaw Trade Tower\, Chłodna 51\, Warszawa\, mazowieckie\, 00-867\, Poland
END:VEVENT
BEGIN:VEVENT
DTSTART;TZID=Europe/Warsaw:20240907T103000
DTEND;TZID=Europe/Warsaw:20240907T174500
DTSTAMP:20260420T151406
CREATED:20240920T192729Z
LAST-MODIFIED:20240920T192753Z
UID:2246-1725705000-1725731100@zarabianieprostasprawa.pl
SUMMARY:Konferencja 07.09.2024
DESCRIPTION:Agenda:\n10:30 – 11:00 – Otwarcie sali\, networking\n11:00 – 12:00 – Start spotkania\n12:00 – 12:45 – Sprzedaż Kinga Ryś\n12:45 – 13:15 – Marka Osobista Joanna Duda Balcar\n13:15 – 14:00 – PR i ChatGPT nowe narzędzia w social mediach Daria Dudzik\n14:00 – 14:30 – Przerwa\, networking\n14:30 – 15:00 – Obudź swoja produktywność Jakub Gromek\n15:00 – 16:00 – Obfitość finansowa\, energia pieniądza – warsztat rozwojowy Marta Wyszyńska-Ładniak\n16:00 – 16:45 – Jak rozwinąć swoje social media Anna Brewińska\n16:45 – 17:15 – Nowe możliwości Biznes Online Magda Dębska\n17:15 – 17:45 – Zakończenie\, wspólne zdjęcie
URL:https://zarabianieprostasprawa.pl/event/konferencja-07-09-2024/
END:VEVENT
END:VCALENDAR